BEGIN:VCALENDAR
VERSION:2.0
PRODID:-//Lake Charles - ECPv6.15.17//NONSGML v1.0//EN
CALSCALE:GREGORIAN
METHOD:PUBLISH
X-WR-CALNAME:Lake Charles
X-ORIGINAL-URL:https://lakecharles.bluemartini.com
X-WR-CALDESC:Events for Lake Charles
REFRESH-INTERVAL;VALUE=DURATION:PT1H
X-Robots-Tag:noindex
X-PUBLISHED-TTL:PT1H
BEGIN:VTIMEZONE
TZID:America/New_York
BEGIN:DAYLIGHT
TZOFFSETFROM:-0500
TZOFFSETTO:-0400
TZNAME:EDT
DTSTART:20250309T070000
END:DAYLIGHT
BEGIN:STANDARD
TZOFFSETFROM:-0400
TZOFFSETTO:-0500
TZNAME:EST
DTSTART:20251102T060000
END:STANDARD
BEGIN:DAYLIGHT
TZOFFSETFROM:-0500
TZOFFSETTO:-0400
TZNAME:EDT
DTSTART:20260308T070000
END:DAYLIGHT
BEGIN:STANDARD
TZOFFSETFROM:-0400
TZOFFSETTO:-0500
TZNAME:EST
DTSTART:20261101T060000
END:STANDARD
BEGIN:DAYLIGHT
TZOFFSETFROM:-0500
TZOFFSETTO:-0400
TZNAME:EDT
DTSTART:20270314T070000
END:DAYLIGHT
BEGIN:STANDARD
TZOFFSETFROM:-0400
TZOFFSETTO:-0500
TZNAME:EST
DTSTART:20271107T060000
END:STANDARD
END:VTIMEZONE
BEGIN:VEVENT
DTSTART;TZID=America/New_York:20260423T220000
DTEND;TZID=America/New_York:20260424T010000
DTSTAMP:20260421T080738
CREATED:20250301T000036Z
LAST-MODIFIED:20250616T215503Z
UID:10005513-1776981600-1776992400@lakecharles.bluemartini.com
SUMMARY:DJ DSP
DESCRIPTION:
URL:https://lakecharles.bluemartini.com/event/dj-dsp/2026-04-23/
END:VEVENT
BEGIN:VEVENT
DTSTART;TZID=America/New_York:20260430T220000
DTEND;TZID=America/New_York:20260501T010000
DTSTAMP:20260421T080738
CREATED:20250301T000036Z
LAST-MODIFIED:20250616T215503Z
UID:10005514-1777586400-1777597200@lakecharles.bluemartini.com
SUMMARY:DJ DSP
DESCRIPTION:
URL:https://lakecharles.bluemartini.com/event/dj-dsp/2026-04-30/
END:VEVENT
BEGIN:VEVENT
DTSTART;TZID=America/New_York:20260507T220000
DTEND;TZID=America/New_York:20260508T010000
DTSTAMP:20260421T080738
CREATED:20250301T000036Z
LAST-MODIFIED:20250616T215503Z
UID:10005515-1778191200-1778202000@lakecharles.bluemartini.com
SUMMARY:DJ DSP
DESCRIPTION:
URL:https://lakecharles.bluemartini.com/event/dj-dsp/2026-05-07/
END:VEVENT
BEGIN:VEVENT
DTSTART;TZID=America/New_York:20260514T220000
DTEND;TZID=America/New_York:20260515T010000
DTSTAMP:20260421T080738
CREATED:20250301T000036Z
LAST-MODIFIED:20250616T215503Z
UID:10005516-1778796000-1778806800@lakecharles.bluemartini.com
SUMMARY:DJ DSP
DESCRIPTION:
URL:https://lakecharles.bluemartini.com/event/dj-dsp/2026-05-14/
END:VEVENT
BEGIN:VEVENT
DTSTART;TZID=America/New_York:20260521T220000
DTEND;TZID=America/New_York:20260522T010000
DTSTAMP:20260421T080738
CREATED:20250301T000036Z
LAST-MODIFIED:20250616T215503Z
UID:10005517-1779400800-1779411600@lakecharles.bluemartini.com
SUMMARY:DJ DSP
DESCRIPTION:
URL:https://lakecharles.bluemartini.com/event/dj-dsp/2026-05-21/
END:VEVENT
BEGIN:VEVENT
DTSTART;TZID=America/New_York:20260528T220000
DTEND;TZID=America/New_York:20260529T010000
DTSTAMP:20260421T080738
CREATED:20250301T000036Z
LAST-MODIFIED:20250616T215503Z
UID:10005518-1780005600-1780016400@lakecharles.bluemartini.com
SUMMARY:DJ DSP
DESCRIPTION:
URL:https://lakecharles.bluemartini.com/event/dj-dsp/2026-05-28/
END:VEVENT
BEGIN:VEVENT
DTSTART;TZID=America/New_York:20260604T220000
DTEND;TZID=America/New_York:20260605T010000
DTSTAMP:20260421T080738
CREATED:20250301T000036Z
LAST-MODIFIED:20250616T215503Z
UID:10005519-1780610400-1780621200@lakecharles.bluemartini.com
SUMMARY:DJ DSP
DESCRIPTION:
URL:https://lakecharles.bluemartini.com/event/dj-dsp/2026-06-04/
END:VEVENT
BEGIN:VEVENT
DTSTART;TZID=America/New_York:20260611T220000
DTEND;TZID=America/New_York:20260612T010000
DTSTAMP:20260421T080738
CREATED:20250301T000036Z
LAST-MODIFIED:20250616T215503Z
UID:10005520-1781215200-1781226000@lakecharles.bluemartini.com
SUMMARY:DJ DSP
DESCRIPTION:
URL:https://lakecharles.bluemartini.com/event/dj-dsp/2026-06-11/
END:VEVENT
BEGIN:VEVENT
DTSTART;TZID=America/New_York:20260618T220000
DTEND;TZID=America/New_York:20260619T010000
DTSTAMP:20260421T080738
CREATED:20250301T000036Z
LAST-MODIFIED:20250616T215503Z
UID:10005521-1781820000-1781830800@lakecharles.bluemartini.com
SUMMARY:DJ DSP
DESCRIPTION:
URL:https://lakecharles.bluemartini.com/event/dj-dsp/2026-06-18/
END:VEVENT
BEGIN:VEVENT
DTSTART;TZID=America/New_York:20260625T220000
DTEND;TZID=America/New_York:20260626T010000
DTSTAMP:20260421T080738
CREATED:20250301T000036Z
LAST-MODIFIED:20250616T215503Z
UID:10005522-1782424800-1782435600@lakecharles.bluemartini.com
SUMMARY:DJ DSP
DESCRIPTION:
URL:https://lakecharles.bluemartini.com/event/dj-dsp/2026-06-25/
END:VEVENT
BEGIN:VEVENT
DTSTART;TZID=America/New_York:20260702T220000
DTEND;TZID=America/New_York:20260703T010000
DTSTAMP:20260421T080738
CREATED:20250301T000036Z
LAST-MODIFIED:20250616T215503Z
UID:10005523-1783029600-1783040400@lakecharles.bluemartini.com
SUMMARY:DJ DSP
DESCRIPTION:
URL:https://lakecharles.bluemartini.com/event/dj-dsp/2026-07-02/
END:VEVENT
BEGIN:VEVENT
DTSTART;TZID=America/New_York:20260709T220000
DTEND;TZID=America/New_York:20260710T010000
DTSTAMP:20260421T080738
CREATED:20250301T000036Z
LAST-MODIFIED:20250616T215503Z
UID:10005524-1783634400-1783645200@lakecharles.bluemartini.com
SUMMARY:DJ DSP
DESCRIPTION:
URL:https://lakecharles.bluemartini.com/event/dj-dsp/2026-07-09/
END:VEVENT
BEGIN:VEVENT
DTSTART;TZID=America/New_York:20260716T220000
DTEND;TZID=America/New_York:20260717T010000
DTSTAMP:20260421T080738
CREATED:20250301T000036Z
LAST-MODIFIED:20250616T215503Z
UID:10005525-1784239200-1784250000@lakecharles.bluemartini.com
SUMMARY:DJ DSP
DESCRIPTION:
URL:https://lakecharles.bluemartini.com/event/dj-dsp/2026-07-16/
END:VEVENT
BEGIN:VEVENT
DTSTART;TZID=America/New_York:20260723T220000
DTEND;TZID=America/New_York:20260724T010000
DTSTAMP:20260421T080738
CREATED:20250301T000036Z
LAST-MODIFIED:20250616T215503Z
UID:10005526-1784844000-1784854800@lakecharles.bluemartini.com
SUMMARY:DJ DSP
DESCRIPTION:
URL:https://lakecharles.bluemartini.com/event/dj-dsp/2026-07-23/
END:VEVENT
BEGIN:VEVENT
DTSTART;TZID=America/New_York:20260730T220000
DTEND;TZID=America/New_York:20260731T010000
DTSTAMP:20260421T080738
CREATED:20250301T000036Z
LAST-MODIFIED:20250616T215503Z
UID:10005527-1785448800-1785459600@lakecharles.bluemartini.com
SUMMARY:DJ DSP
DESCRIPTION:
URL:https://lakecharles.bluemartini.com/event/dj-dsp/2026-07-30/
END:VEVENT
BEGIN:VEVENT
DTSTART;TZID=America/New_York:20260806T220000
DTEND;TZID=America/New_York:20260807T010000
DTSTAMP:20260421T080738
CREATED:20250301T000036Z
LAST-MODIFIED:20250616T215503Z
UID:10005528-1786053600-1786064400@lakecharles.bluemartini.com
SUMMARY:DJ DSP
DESCRIPTION:
URL:https://lakecharles.bluemartini.com/event/dj-dsp/2026-08-06/
END:VEVENT
BEGIN:VEVENT
DTSTART;TZID=America/New_York:20260813T220000
DTEND;TZID=America/New_York:20260814T010000
DTSTAMP:20260421T080738
CREATED:20250301T000036Z
LAST-MODIFIED:20250616T215503Z
UID:10005529-1786658400-1786669200@lakecharles.bluemartini.com
SUMMARY:DJ DSP
DESCRIPTION:
URL:https://lakecharles.bluemartini.com/event/dj-dsp/2026-08-13/
END:VEVENT
BEGIN:VEVENT
DTSTART;TZID=America/New_York:20260820T220000
DTEND;TZID=America/New_York:20260821T010000
DTSTAMP:20260421T080738
CREATED:20250301T000036Z
LAST-MODIFIED:20250616T215503Z
UID:10005530-1787263200-1787274000@lakecharles.bluemartini.com
SUMMARY:DJ DSP
DESCRIPTION:
URL:https://lakecharles.bluemartini.com/event/dj-dsp/2026-08-20/
END:VEVENT
BEGIN:VEVENT
DTSTART;TZID=America/New_York:20260827T220000
DTEND;TZID=America/New_York:20260828T010000
DTSTAMP:20260421T080738
CREATED:20250301T000036Z
LAST-MODIFIED:20250616T215503Z
UID:10005531-1787868000-1787878800@lakecharles.bluemartini.com
SUMMARY:DJ DSP
DESCRIPTION:
URL:https://lakecharles.bluemartini.com/event/dj-dsp/2026-08-27/
END:VEVENT
BEGIN:VEVENT
DTSTART;TZID=America/New_York:20260903T220000
DTEND;TZID=America/New_York:20260904T010000
DTSTAMP:20260421T080738
CREATED:20250301T000036Z
LAST-MODIFIED:20250616T215503Z
UID:10005532-1788472800-1788483600@lakecharles.bluemartini.com
SUMMARY:DJ DSP
DESCRIPTION:
URL:https://lakecharles.bluemartini.com/event/dj-dsp/2026-09-03/
END:VEVENT
BEGIN:VEVENT
DTSTART;TZID=America/New_York:20260910T220000
DTEND;TZID=America/New_York:20260911T010000
DTSTAMP:20260421T080738
CREATED:20250301T000036Z
LAST-MODIFIED:20250616T215503Z
UID:10005533-1789077600-1789088400@lakecharles.bluemartini.com
SUMMARY:DJ DSP
DESCRIPTION:
URL:https://lakecharles.bluemartini.com/event/dj-dsp/2026-09-10/
END:VEVENT
BEGIN:VEVENT
DTSTART;TZID=America/New_York:20260917T220000
DTEND;TZID=America/New_York:20260918T010000
DTSTAMP:20260421T080738
CREATED:20250301T000036Z
LAST-MODIFIED:20250616T215503Z
UID:10005534-1789682400-1789693200@lakecharles.bluemartini.com
SUMMARY:DJ DSP
DESCRIPTION:
URL:https://lakecharles.bluemartini.com/event/dj-dsp/2026-09-17/
END:VEVENT
BEGIN:VEVENT
DTSTART;TZID=America/New_York:20260924T220000
DTEND;TZID=America/New_York:20260925T010000
DTSTAMP:20260421T080738
CREATED:20250301T000036Z
LAST-MODIFIED:20250616T215503Z
UID:10005535-1790287200-1790298000@lakecharles.bluemartini.com
SUMMARY:DJ DSP
DESCRIPTION:
URL:https://lakecharles.bluemartini.com/event/dj-dsp/2026-09-24/
END:VEVENT
BEGIN:VEVENT
DTSTART;TZID=America/New_York:20261001T220000
DTEND;TZID=America/New_York:20261002T010000
DTSTAMP:20260421T080738
CREATED:20250301T000036Z
LAST-MODIFIED:20250616T215503Z
UID:10005536-1790892000-1790902800@lakecharles.bluemartini.com
SUMMARY:DJ DSP
DESCRIPTION:
URL:https://lakecharles.bluemartini.com/event/dj-dsp/2026-10-01/
END:VEVENT
BEGIN:VEVENT
DTSTART;TZID=America/New_York:20261008T220000
DTEND;TZID=America/New_York:20261009T010000
DTSTAMP:20260421T080738
CREATED:20250301T000036Z
LAST-MODIFIED:20250616T215503Z
UID:10005537-1791496800-1791507600@lakecharles.bluemartini.com
SUMMARY:DJ DSP
DESCRIPTION:
URL:https://lakecharles.bluemartini.com/event/dj-dsp/2026-10-08/
END:VEVENT
BEGIN:VEVENT
DTSTART;TZID=America/New_York:20261015T220000
DTEND;TZID=America/New_York:20261016T010000
DTSTAMP:20260421T080738
CREATED:20250301T000036Z
LAST-MODIFIED:20250616T215503Z
UID:10005538-1792101600-1792112400@lakecharles.bluemartini.com
SUMMARY:DJ DSP
DESCRIPTION:
URL:https://lakecharles.bluemartini.com/event/dj-dsp/2026-10-15/
END:VEVENT
BEGIN:VEVENT
DTSTART;TZID=America/New_York:20261022T220000
DTEND;TZID=America/New_York:20261023T010000
DTSTAMP:20260421T080738
CREATED:20250301T000036Z
LAST-MODIFIED:20250616T215503Z
UID:10005539-1792706400-1792717200@lakecharles.bluemartini.com
SUMMARY:DJ DSP
DESCRIPTION:
URL:https://lakecharles.bluemartini.com/event/dj-dsp/2026-10-22/
END:VEVENT
BEGIN:VEVENT
DTSTART;TZID=America/New_York:20261029T220000
DTEND;TZID=America/New_York:20261030T010000
DTSTAMP:20260421T080738
CREATED:20250301T000036Z
LAST-MODIFIED:20250616T215503Z
UID:10005540-1793311200-1793322000@lakecharles.bluemartini.com
SUMMARY:DJ DSP
DESCRIPTION:
URL:https://lakecharles.bluemartini.com/event/dj-dsp/2026-10-29/
END:VEVENT
BEGIN:VEVENT
DTSTART;TZID=America/New_York:20261105T220000
DTEND;TZID=America/New_York:20261106T010000
DTSTAMP:20260421T080738
CREATED:20250301T000036Z
LAST-MODIFIED:20250616T215503Z
UID:10005541-1793916000-1793926800@lakecharles.bluemartini.com
SUMMARY:DJ DSP
DESCRIPTION:
URL:https://lakecharles.bluemartini.com/event/dj-dsp/2026-11-05/
END:VEVENT
BEGIN:VEVENT
DTSTART;TZID=America/New_York:20261112T220000
DTEND;TZID=America/New_York:20261113T010000
DTSTAMP:20260421T080738
CREATED:20250301T000036Z
LAST-MODIFIED:20250616T215503Z
UID:10005542-1794520800-1794531600@lakecharles.bluemartini.com
SUMMARY:DJ DSP
DESCRIPTION:
URL:https://lakecharles.bluemartini.com/event/dj-dsp/2026-11-12/
END:VEVENT
END:VCALENDAR