BEGIN:VCALENDAR
VERSION:2.0
PRODID:-//Lake Charles - ECPv6.15.17//NONSGML v1.0//EN
CALSCALE:GREGORIAN
METHOD:PUBLISH
X-WR-CALNAME:Lake Charles
X-ORIGINAL-URL:https://lakecharles.bluemartini.com
X-WR-CALDESC:Events for Lake Charles
REFRESH-INTERVAL;VALUE=DURATION:PT1H
X-Robots-Tag:noindex
X-PUBLISHED-TTL:PT1H
BEGIN:VTIMEZONE
TZID:America/New_York
BEGIN:DAYLIGHT
TZOFFSETFROM:-0500
TZOFFSETTO:-0400
TZNAME:EDT
DTSTART:20240310T070000
END:DAYLIGHT
BEGIN:STANDARD
TZOFFSETFROM:-0400
TZOFFSETTO:-0500
TZNAME:EST
DTSTART:20241103T060000
END:STANDARD
BEGIN:DAYLIGHT
TZOFFSETFROM:-0500
TZOFFSETTO:-0400
TZNAME:EDT
DTSTART:20250309T070000
END:DAYLIGHT
BEGIN:STANDARD
TZOFFSETFROM:-0400
TZOFFSETTO:-0500
TZNAME:EST
DTSTART:20251102T060000
END:STANDARD
BEGIN:DAYLIGHT
TZOFFSETFROM:-0500
TZOFFSETTO:-0400
TZNAME:EDT
DTSTART:20260308T070000
END:DAYLIGHT
BEGIN:STANDARD
TZOFFSETFROM:-0400
TZOFFSETTO:-0500
TZNAME:EST
DTSTART:20261101T060000
END:STANDARD
END:VTIMEZONE
BEGIN:VEVENT
DTSTART;TZID=America/New_York:20251106T190000
DTEND;TZID=America/New_York:20251107T010000
DTSTAMP:20260420T135139
CREATED:20241118T212246Z
LAST-MODIFIED:20241204T205510Z
UID:10005169-1762455600-1762477200@lakecharles.bluemartini.com
SUMMARY:COUNTRY NIGHT
DESCRIPTION:
URL:https://lakecharles.bluemartini.com/event/latin-night/2025-11-06/
END:VEVENT
BEGIN:VEVENT
DTSTART;TZID=America/New_York:20251106T220000
DTEND;TZID=America/New_York:20251107T010000
DTSTAMP:20260420T135139
CREATED:20250301T000036Z
LAST-MODIFIED:20250616T215503Z
UID:10005489-1762466400-1762477200@lakecharles.bluemartini.com
SUMMARY:DJ DSP
DESCRIPTION:
URL:https://lakecharles.bluemartini.com/event/dj-dsp/2025-11-06/
END:VEVENT
BEGIN:VEVENT
DTSTART;TZID=America/New_York:20251113T190000
DTEND;TZID=America/New_York:20251114T010000
DTSTAMP:20260420T135139
CREATED:20241118T212246Z
LAST-MODIFIED:20241204T205510Z
UID:10005170-1763060400-1763082000@lakecharles.bluemartini.com
SUMMARY:COUNTRY NIGHT
DESCRIPTION:
URL:https://lakecharles.bluemartini.com/event/latin-night/2025-11-13/
END:VEVENT
BEGIN:VEVENT
DTSTART;TZID=America/New_York:20251113T220000
DTEND;TZID=America/New_York:20251114T010000
DTSTAMP:20260420T135139
CREATED:20250301T000036Z
LAST-MODIFIED:20250616T215503Z
UID:10005490-1763071200-1763082000@lakecharles.bluemartini.com
SUMMARY:DJ DSP
DESCRIPTION:
URL:https://lakecharles.bluemartini.com/event/dj-dsp/2025-11-13/
END:VEVENT
BEGIN:VEVENT
DTSTART;TZID=America/New_York:20251120T190000
DTEND;TZID=America/New_York:20251121T010000
DTSTAMP:20260420T135139
CREATED:20241118T212246Z
LAST-MODIFIED:20241204T205510Z
UID:10005171-1763665200-1763686800@lakecharles.bluemartini.com
SUMMARY:COUNTRY NIGHT
DESCRIPTION:
URL:https://lakecharles.bluemartini.com/event/latin-night/2025-11-20/
END:VEVENT
BEGIN:VEVENT
DTSTART;TZID=America/New_York:20251120T220000
DTEND;TZID=America/New_York:20251121T010000
DTSTAMP:20260420T135139
CREATED:20250301T000036Z
LAST-MODIFIED:20250616T215503Z
UID:10005491-1763676000-1763686800@lakecharles.bluemartini.com
SUMMARY:DJ DSP
DESCRIPTION:
URL:https://lakecharles.bluemartini.com/event/dj-dsp/2025-11-20/
END:VEVENT
BEGIN:VEVENT
DTSTART;TZID=America/New_York:20251127T190000
DTEND;TZID=America/New_York:20251128T010000
DTSTAMP:20260420T135139
CREATED:20241118T212246Z
LAST-MODIFIED:20241204T205510Z
UID:10005172-1764270000-1764291600@lakecharles.bluemartini.com
SUMMARY:COUNTRY NIGHT
DESCRIPTION:
URL:https://lakecharles.bluemartini.com/event/latin-night/2025-11-27/
END:VEVENT
BEGIN:VEVENT
DTSTART;TZID=America/New_York:20251127T220000
DTEND;TZID=America/New_York:20251128T010000
DTSTAMP:20260420T135139
CREATED:20250301T000036Z
LAST-MODIFIED:20250616T215503Z
UID:10005492-1764280800-1764291600@lakecharles.bluemartini.com
SUMMARY:DJ DSP
DESCRIPTION:
URL:https://lakecharles.bluemartini.com/event/dj-dsp/2025-11-27/
END:VEVENT
END:VCALENDAR